BEGIN:VCALENDAR
VERSION:2.0
PRODID:-//Florida Family Child Care Home Association - ECPv6.15.17//NONSGML v1.0//EN
CALSCALE:GREGORIAN
METHOD:PUBLISH
X-ORIGINAL-URL:https://familychildcare.org
X-WR-CALDESC:Events for Florida Family Child Care Home Association
REFRESH-INTERVAL;VALUE=DURATION:PT1H
X-Robots-Tag:noindex
X-PUBLISHED-TTL:PT1H
BEGIN:VTIMEZONE
TZID:America/New_York
BEGIN:DAYLIGHT
TZOFFSETFROM:-0500
TZOFFSETTO:-0400
TZNAME:EDT
DTSTART:20230312T070000
END:DAYLIGHT
BEGIN:STANDARD
TZOFFSETFROM:-0400
TZOFFSETTO:-0500
TZNAME:EST
DTSTART:20231105T060000
END:STANDARD
BEGIN:DAYLIGHT
TZOFFSETFROM:-0500
TZOFFSETTO:-0400
TZNAME:EDT
DTSTART:20240310T070000
END:DAYLIGHT
BEGIN:STANDARD
TZOFFSETFROM:-0400
TZOFFSETTO:-0500
TZNAME:EST
DTSTART:20241103T060000
END:STANDARD
BEGIN:DAYLIGHT
TZOFFSETFROM:-0500
TZOFFSETTO:-0400
TZNAME:EDT
DTSTART:20250309T070000
END:DAYLIGHT
BEGIN:STANDARD
TZOFFSETFROM:-0400
TZOFFSETTO:-0500
TZNAME:EST
DTSTART:20251102T060000
END:STANDARD
BEGIN:DAYLIGHT
TZOFFSETFROM:-0500
TZOFFSETTO:-0400
TZNAME:EDT
DTSTART:20260308T070000
END:DAYLIGHT
BEGIN:STANDARD
TZOFFSETFROM:-0400
TZOFFSETTO:-0500
TZNAME:EST
DTSTART:20261101T060000
END:STANDARD
END:VTIMEZONE
BEGIN:VEVENT
DTSTART;VALUE=DATE:20241209
DTEND;VALUE=DATE:20250701
DTSTAMP:20260424T060522
CREATED:20220122T020713Z
LAST-MODIFIED:20241208T083344Z
UID:10451-1733702400-1751327999@familychildcare.org
SUMMARY:Save the Date: Enhancing Our Minds...in 2025 conference
DESCRIPTION:June 25-29\, 2025  FFCCHA Save the Date 2025 2 pages \nConference Registration Brochure – coming in January \nCall for Workshop Proposals for FFCCHA 2025  <—- Use this link to submit.  \nCall for Exhibitors\, Mind Sponsors\, Ads & Donations  <— Use this link to Sign Up Now! with sponsorship levels from $250 to $5\,000!  Exhibit space still available! only $250  Pay for Exhibit Space online now!      \n 2025 Sponsor Invite Letter        2025 Call for Mind Sponsors        Florida FCC Home Facts \nLocation: Sheraton Sand Key Resort\, 1160 Gulf Blvd. Clearwater Beach\, FL \nBook your group rate for FFCCHA 2025 Annual Conference \n\nSheraton Sand Key Resort – special group rate $224 USD per night\nLast Day to Book: Friday\, May 26\, 2025\nSpecial group rate available June 25-30\, 2024\n\nMORE DETAIL conference information and call for presenters\, exhibitors\, sponsors\, and volunteers coming in October 2023. \n\nSSK Hotel Flyer    SSK Highlights (2 pages)    SSK Map of workshop rooms\n\nWednesday-Thursday Pre-Conference\nFFCCHA Certified M.E.N.T.O.R. Training • Second Helping • Curriculum Training and more!\nFriday Luncheon Keynote\nwith FFCCHA Awards and Workshops\nSaturday Morning Keynote: “The Becoming of Family Child Care – through Evolution\, Elevation & Innovation” with Jerletha McDonald\nSaturday Afternoon Keynote:  TBA\n                 Concilio Latino y Talleres en Español\nProvider Celebration on Saturday Night! with DJ – TBA\nSunday Breakfast Keynote: TBA and FFCCHA General Meeting & Officer Installation\n 
URL:https://familychildcare.org/training/save-the-date-2023/
LOCATION:Sheraton Sand Key Resort\, 1160 Gulf Blvd.\, Clearwater Beach\, FL\, 33767\, United States
ORGANIZER;CN="Karan Hiester":MAILTO:conference@familychildcare.org
END:VEVENT
BEGIN:VEVENT
DTSTART;TZID=America/New_York:20240111T183000
DTEND;TZID=America/New_York:20240111T203000
DTSTAMP:20260424T060522
CREATED:20230301T055622Z
LAST-MODIFIED:20231113T005042Z
UID:13491-1704997800-1705005000@familychildcare.org
SUMMARY:Virtual Training: 6 Key Components Needed as a Home-Based Entrepreneur and Educator
DESCRIPTION:Virtual Training\, 2024 Registration Form 6 Key Components\nOnline Payments available! https://familychildcare.org/product-category/virtual-in-service-training/ \n6 Key Components Needed as a Home-Based Entrepreneur and Educator\n                Presenter:  Jennifer Biles with Quality Early Education System                      2 hours                                   \nTopics will cover: Learning to run your business without it running you\, Creating Core Values\, Marketing Techniques\, Measuring Data\, Effective Problem Solving\, and Developing Processes. By Implementing these core components your business will run more efficiently and effectively.
URL:https://familychildcare.org/training/virtual-training-understanding-a-diagnosis-of-conduct-disorder-or-unspecified-mood-disorder/
LOCATION:FL
ORGANIZER;CN="Annette Eberhart":MAILTO:training@familychildcare.org
END:VEVENT
BEGIN:VEVENT
DTSTART;TZID=America/New_York:20240125T080000
DTEND;TZID=America/New_York:20240126T170000
DTSTAMP:20260424T060522
CREATED:20230926T151759Z
LAST-MODIFIED:20231230T063003Z
UID:14759-1706169600-1706288400@familychildcare.org
SUMMARY:NAFCC Accreditation Quality Ambassador Training in Orlando
DESCRIPTION:FFCCHA hosts NAFCC Accreditation Quality Ambassador Training \nAccreditation Quality Ambassador Training Flyer \nReserve hotel by January 10\, 2024 <—-Deadline extended – Link available now!   \nRegister online with FFCCHA by January 13\, 2024 <—-Link available now!   \nSubmit application to NAFCC by January 13\, 2024 <— Link – available now!
URL:https://familychildcare.org/training/nafcc-accreditation-quality-ambassador-training-in-orlando/
LOCATION:The Florida Hotel and Conference Center\, 1500 Sand Lake Road\, Orlando\, FL\, 32809\, United States
ORGANIZER;CN="Annette Eberhart":MAILTO:training@familychildcare.org
END:VEVENT
END:VCALENDAR